BEGIN:VCALENDAR
VERSION:2.0
PRODID:-//Sabre//Sabre VObject 3.5.3//EN
CALSCALE:GREGORIAN
BEGIN:VTIMEZONE
TZID:Europe/London
BEGIN:STANDARD
TZNAME:GMT
DTSTART:19701025T020000
RRULE:FREQ=YEARLY;BYMONTH=10;BYDAY=-1SU
TZOFFSETFROM:+0100
TZOFFSETTO:+0000
END:STANDARD
BEGIN:DAYLIGHT
TZNAME:BST
DTSTART:19700329T010000
RRULE:FREQ=YEARLY;BYMONTH=3;BYDAY=-1SU
TZOFFSETFROM:+0000
TZOFFSETTO:+0100
END:DAYLIGHT
END:VTIMEZONE
BEGIN:VEVENT
UID:event_102850@mainstreetsound.co.uk
DTSTART;TZID=Europe/London:20200323T193000
DTEND;TZID=Europe/London:20200323T213000
SUMMARY:Rehearsal
DESCRIPTION:For full event details\, visit: https://www.mainstreetsound.co.
 uk/dbpage.php?pg=view&dbase=events&id=102850
LOCATION:Acomb Baptist Church Hall\, Ridgeway\, Acomb\, YORK\, YO26 5DW
URL:https://www.mainstreetsound.co.uk/dbpage.php?pg=view&dbase=events&id=10
 2850
END:VEVENT
END:VCALENDAR
